BEGIN:VCALENDAR
VERSION:2.0
PRODID:-//ChamberMaster//Event Calendar 2.0//EN
METHOD:PUBLISH
X-PUBLISHED-TTL:P3D
REFRESH-INTERVAL:P3D
CALSCALE:GREGORIAN
BEGIN:VEVENT
DTSTART:20210107T180000Z
DTEND:20210107T190000Z
X-MICROSOFT-CDO-ALLDAYEVENT:FALSE
SUMMARY:Motivation & Marketing Mastermind
DESCRIPTION:Online registration for this event has closed. If you'd like to register please contact Jeremy Kindlund at Jeremy@MountVernonChamber.com. \n\n\n\nMarketing Mastermind: Listening to Your Customers with Surveys & Focus Groups\n\nYou aren't a mind reader\, so how do you know what your customers\, clients or stakeholders want and need from your business or organization? At January's Marketing Mastermind we will discuss using surveys and focus groups as a way to ask the kind of questions that give you actionable information.
X-ALT-DESC;FMTTYPE=text/html:<p style="margin: 0px 0px 10.66px\;"><span style="font-family:arial\;"><span style="font-size:16px\;"><font color="#000000">Online registration for this event has closed. If you&#39\;d like to register please contact Jeremy Kindlund at Jeremy@MountVernonChamber.com.&nbsp\;</font></span><br />\n<br />\n<strong><span style="font-size:16px\;"><font color="#000000">Marketing Mastermind: Listening to Your Customers with Surveys &amp\; Focus Groups</font></span></strong></span></p>\n\n<p style="margin: 0px 0px 10.66px\;"><span style="font-family:arial\;"><span style="font-size:16px\;"><font color="#000000">You aren&rsquo\;t a mind reader\, so how do you know what your customers\, clients or stakeholders want and need from your business or organization? At January&rsquo\;s Marketing Mastermind we will discuss using surveys and focus groups as a way to ask the kind of questions that give you actionable information.</font></span></span></p>\n
LOCATION:Mount Vernon Chamber of Commerce 301 W. Kincaid St. Mount Vernon
UID:e.72.20449
SEQUENCE:3
DTSTAMP:20260425T002704Z
URL:https://business.mountvernonchamber.com/events/details/motivation-marketing-mastermind-20449
END:VEVENT

END:VCALENDAR
