BEGIN:VCALENDAR
VERSION:2.0
PRODID:-//ChamberMaster//Event Calendar 2.0//EN
METHOD:PUBLISH
X-PUBLISHED-TTL:P3D
REFRESH-INTERVAL:P3D
CALSCALE:GREGORIAN
BEGIN:VEVENT
DTSTART:20250406T010000Z
DTEND:20250427T060000Z
X-MICROSOFT-CDO-ALLDAYEVENT:FALSE
SUMMARY:Rainy Day Riches
DESCRIPTION:Catch an umbrella full of cash with our Rainy Day Riches promotion!  We warm up with hot seat drawings where 12 winners win $100 cash and 100 free entries for the 10PM drawing where 1 lucky winner walks away with $15\,000 cash!  Every card member can claim a free daily entry for the drawings held every Saturday in April!
X-ALT-DESC;FMTTYPE=text/html:Catch an umbrella full of cash with our Rainy Day Riches promotion!&nbsp\; We warm up with hot seat drawings where 12 winners win $100 cash and 100 free entries for the 10PM drawing where 1 lucky winner walks away with $15\,000 cash!&nbsp\; Every card member can claim a free daily entry for the drawings held every Saturday in April!
LOCATION:Swinomish Casino and Lodge 12885 Casino Drive\, Anacortes\, WA 98221
UID:e.72.24014
SEQUENCE:3
DTSTAMP:20260419T132857Z
URL:https://business.mountvernonchamber.com/events/details/rainy-day-riches-24014
END:VEVENT

END:VCALENDAR
